BEGIN:VCALENDAR
PRODID:-//Flo Inc.//FloSoft//EN
BEGIN:VEVENT
DTSTART;TZID='Perth':20200229T130000
DTEND;TZID='Perth':20200229T134000
LOCATION:8/7 Davies Road, Claremont
DESCRIPTION:OFI/Open Home: 8/7 Davies Road\, Claremont\nSaturday 01:00 PM-01:40 PM\n\n\nClick the link for full listing information: https://www.hubresidential.com.au//buy/claremont/87-davies-road/4032434
SUMMARY;LANGUAGE=en-in:Hub Residential OFI/Open Home - 8/7 Davies Road\, Claremont
PRIORITY:3
END:VEVENT
END:VCALENDAR
