BEGIN:VCALENDAR
PRODID:-//Flo Inc.//FloSoft//EN
BEGIN:VEVENT
DTSTART;TZID='Perth':20200229T120000
DTEND;TZID='Perth':20200229T124000
LOCATION:65A First Avenue, Claremont
DESCRIPTION:OFI/Open Home: 65A First Avenue\, Claremont\nSaturday 12:00 PM-12:40 PM\n\n\nClick the link for full listing information: https://www.hubresidential.com.au//buy/claremont/65a-first-avenue/4288453
SUMMARY;LANGUAGE=en-in:Hub Residential OFI/Open Home - 65A First Avenue\, Claremont
PRIORITY:3
END:VEVENT
END:VCALENDAR
