BEGIN:VCALENDAR
PRODID:-//Flo Inc.//FloSoft//EN
BEGIN:VEVENT
DTSTART;TZID='Perth':20200229T113000
DTEND;TZID='Perth':20200229T123000
LOCATION:77B Alfred Road, Mount Claremont
DESCRIPTION:OFI/Open Home: 77B Alfred Road\, Mount Claremont\nSaturday 11:30 AM-12:30 PM\n\n\nClick the link for full listing information: https://www.hubresidential.com.au//buy/mount-claremont/77b-alfred-road/4302120
SUMMARY;LANGUAGE=en-in:Hub Residential OFI/Open Home - 77B Alfred Road\, Mount Claremont
PRIORITY:3
END:VEVENT
END:VCALENDAR
